BEGIN:VCALENDAR
VERSION:2.0
PRODID:-//Biblioteca Pública e Arquivo Regional de Ponta Delgada - ECPv5.7.0//NONSGML v1.0//EN
CALSCALE:GREGORIAN
METHOD:PUBLISH
X-WR-CALNAME:Biblioteca Pública e Arquivo Regional de Ponta Delgada
X-ORIGINAL-URL:https://bparpd.azores.gov.pt
X-WR-CALDESC:Events for Biblioteca Pública e Arquivo Regional de Ponta Delgada
BEGIN:VTIMEZONE
TZID:Atlantic/Azores
BEGIN:DAYLIGHT
TZOFFSETFROM:-0100
TZOFFSETTO:+0000
TZNAME:+00
DTSTART:20210328T010000
END:DAYLIGHT
BEGIN:STANDARD
TZOFFSETFROM:+0000
TZOFFSETTO:-0100
TZNAME:-01
DTSTART:20211031T010000
END:STANDARD
END:VTIMEZONE
BEGIN:VEVENT
DTSTART;TZID=Atlantic/Azores:20210402T100000
DTEND;TZID=Atlantic/Azores:20210404T235000
DTSTAMP:20260425T123534
CREATED:20210401T153346Z
LAST-MODIFIED:20210405T053941Z
UID:3500-1617357600-1617580200@bparpd.azores.gov.pt
SUMMARY:PODCAST - “ILHA GRANDE FECHADA”\, de Daniel de Sá
DESCRIPTION:Ressuscitando memórias das antigas novelas da rádio\, a equipe da Biblioteca Pública e Arquivo Regional de Ponta Delgada oferece-lhe esta Páscoa a narrativa de um romeiro\, das paisagens da ilha e seus enredos e paixões\, através de um curioso punhado de personagens… \n  \nEscute\, pelas nossas vozes\, a história… \n  \nO conteúdo multimédia estará disponível permanentemente no site da Biblioteca Pública e Arquivo Regional de Ponta Delgada através do acesso ao menu “Acervo” e selecionando o separador “Conteúdo Multimédia” (clique aqui para ver mais). Também poderá aceder a este conteúdos no canal do Youtube (clique aqui para ver mais)\, Facebook (clique aqui para ver mais)\, Instagram (clique aqui para ver mais)\, Twitter (clique aqui para ver mais) e Tumblr (clique aqui para ver mais) \n\n 
URL:https://bparpd.azores.gov.pt/evento/podcast-ilha-grande-fechada-de-daniel-de-sa/
LOCATION:Biblioteca Pública e Arquivo Regional de Ponta Delgada\, Largo do Colégio S/N\, Ponta Delgada\, São Miguel\, 9500-054\, Portugal
CATEGORIES:Conteúdo Multimédia,Promoção do Livro e da Leitura
ATTACH;FMTTYPE=image/jpeg:https://bparpd.azores.gov.pt/wp-content/uploads/2021/04/podcast_2.jpg
END:VEVENT
END:VCALENDAR